BEGIN:VCALENDAR
VERSION:2.0
PRODID:-//MSC Philippsburg e.V. - ECPv6.15.20//NONSGML v1.0//EN
CALSCALE:GREGORIAN
METHOD:PUBLISH
X-ORIGINAL-URL:https://msc-philippsburg.de
X-WR-CALDESC:Veranstaltungen für MSC Philippsburg e.V.
REFRESH-INTERVAL;VALUE=DURATION:PT1H
X-Robots-Tag:noindex
X-PUBLISHED-TTL:PT1H
BEGIN:VTIMEZONE
TZID:Europe/Berlin
BEGIN:DAYLIGHT
TZOFFSETFROM:+0100
TZOFFSETTO:+0200
TZNAME:CEST
DTSTART:20250330T010000
END:DAYLIGHT
BEGIN:STANDARD
TZOFFSETFROM:+0200
TZOFFSETTO:+0100
TZNAME:CET
DTSTART:20251026T010000
END:STANDARD
BEGIN:DAYLIGHT
TZOFFSETFROM:+0100
TZOFFSETTO:+0200
TZNAME:CEST
DTSTART:20260329T010000
END:DAYLIGHT
BEGIN:STANDARD
TZOFFSETFROM:+0200
TZOFFSETTO:+0100
TZNAME:CET
DTSTART:20261025T010000
END:STANDARD
BEGIN:DAYLIGHT
TZOFFSETFROM:+0100
TZOFFSETTO:+0200
TZNAME:CEST
DTSTART:20270328T010000
END:DAYLIGHT
BEGIN:STANDARD
TZOFFSETFROM:+0200
TZOFFSETTO:+0100
TZNAME:CET
DTSTART:20271031T010000
END:STANDARD
END:VTIMEZONE
BEGIN:VEVENT
DTSTART;TZID=Europe/Berlin:20260328T150000
DTEND;TZID=Europe/Berlin:20260328T150000
DTSTAMP:20260425T122358
CREATED:20231213T212048Z
LAST-MODIFIED:20260203T192950Z
UID:1412-1774710000-1774710000@msc-philippsburg.de
SUMMARY:TAIFUN MÖRSCH VS MSC PHILIPPSBURG (Junioren)
DESCRIPTION:
URL:https://msc-philippsburg.de/event/taifun-moersch-vs-msc-philippsburg-comet/
LOCATION:MSC Taifun Mörsch\, Keplerstr.101\, Rheinstetten\, Baden-Württemberg\, 76287\, Deutschland
CATEGORIES:Auswärtsspiel,Hinrunde,Jugend
ATTACH;FMTTYPE=image/png:https://msc-philippsburg.de/wp-content/uploads/2022/12/Taifun-Moersch-vs-MSC-Philippsburg-–-Motoball-Deutschland-e1702548277741.png
END:VEVENT
END:VCALENDAR