BEGIN:VCALENDAR
VERSION:2.0
PRODID:-//MSC Philippsburg e.V. - ECPv6.15.17.1//NONSGML v1.0//EN
CALSCALE:GREGORIAN
METHOD:PUBLISH
X-WR-CALNAME:MSC Philippsburg e.V.
X-ORIGINAL-URL:https://msc-philippsburg.de
X-WR-CALDESC:Veranstaltungen für MSC Philippsburg e.V.
REFRESH-INTERVAL;VALUE=DURATION:PT1H
X-Robots-Tag:noindex
X-PUBLISHED-TTL:PT1H
BEGIN:VTIMEZONE
TZID:Europe/Berlin
BEGIN:DAYLIGHT
TZOFFSETFROM:+0100
TZOFFSETTO:+0200
TZNAME:CEST
DTSTART:20250330T010000
END:DAYLIGHT
BEGIN:STANDARD
TZOFFSETFROM:+0200
TZOFFSETTO:+0100
TZNAME:CET
DTSTART:20251026T010000
END:STANDARD
BEGIN:DAYLIGHT
TZOFFSETFROM:+0100
TZOFFSETTO:+0200
TZNAME:CEST
DTSTART:20260329T010000
END:DAYLIGHT
BEGIN:STANDARD
TZOFFSETFROM:+0200
TZOFFSETTO:+0100
TZNAME:CET
DTSTART:20261025T010000
END:STANDARD
BEGIN:DAYLIGHT
TZOFFSETFROM:+0100
TZOFFSETTO:+0200
TZNAME:CEST
DTSTART:20270328T010000
END:DAYLIGHT
BEGIN:STANDARD
TZOFFSETFROM:+0200
TZOFFSETTO:+0100
TZNAME:CET
DTSTART:20271031T010000
END:STANDARD
END:VTIMEZONE
BEGIN:VEVENT
DTSTART;TZID=Europe/Berlin:20260627T133000
DTEND;TZID=Europe/Berlin:20260627T153000
DTSTAMP:20260421T120714
CREATED:20260203T195107Z
LAST-MODIFIED:20260203T195651Z
UID:2438-1782567000-1782574200@msc-philippsburg.de
SUMMARY:MSC Philippsburg VS MSC Comet Durmersheim (Junioren)
DESCRIPTION:
URL:https://msc-philippsburg.de/event/msc-philippsburg-vs-msc-comet-durmersheim-2/
CATEGORIES:Heimspiel,Jugend,Rückrunde
ATTACH;FMTTYPE=image/png:https://msc-philippsburg.de/wp-content/uploads/2022/12/MSC-Philippsburg-vs-Comet-Durmersheim-–-Motoball-Deutschland-1-e1702548246299.png
ORGANIZER;CN="MSC Philippsburg e.V.":MAILTO:info@msc-philippsburg.de
END:VEVENT
END:VCALENDAR